BEGIN:VCALENDAR
VERSION:2.0
PRODID:-//Terra Nonno Winery - ECPv6.15.17//NONSGML v1.0//EN
CALSCALE:GREGORIAN
METHOD:PUBLISH
X-ORIGINAL-URL:https://terranonno.com
X-WR-CALDESC:Events for Terra Nonno Winery
REFRESH-INTERVAL;VALUE=DURATION:PT1H
X-Robots-Tag:noindex
X-PUBLISHED-TTL:PT1H
BEGIN:VTIMEZONE
TZID:America/New_York
BEGIN:DAYLIGHT
TZOFFSETFROM:-0500
TZOFFSETTO:-0400
TZNAME:EDT
DTSTART:20220313T070000
END:DAYLIGHT
BEGIN:STANDARD
TZOFFSETFROM:-0400
TZOFFSETTO:-0500
TZNAME:EST
DTSTART:20221106T060000
END:STANDARD
BEGIN:DAYLIGHT
TZOFFSETFROM:-0500
TZOFFSETTO:-0400
TZNAME:EDT
DTSTART:20230312T070000
END:DAYLIGHT
BEGIN:STANDARD
TZOFFSETFROM:-0400
TZOFFSETTO:-0500
TZNAME:EST
DTSTART:20231105T060000
END:STANDARD
BEGIN:DAYLIGHT
TZOFFSETFROM:-0500
TZOFFSETTO:-0400
TZNAME:EDT
DTSTART:20240310T070000
END:DAYLIGHT
BEGIN:STANDARD
TZOFFSETFROM:-0400
TZOFFSETTO:-0500
TZNAME:EST
DTSTART:20241103T060000
END:STANDARD
END:VTIMEZONE
BEGIN:VEVENT
DTSTART;TZID=America/New_York:20230701T150000
DTEND;TZID=America/New_York:20230701T180000
DTSTAMP:20260424T181937
CREATED:20230602T160441Z
LAST-MODIFIED:20230625T210738Z
UID:1449-1688223600-1688234400@terranonno.com
SUMMARY:Brittany Ewan & Touch of Basil Pizza
DESCRIPTION:
URL:https://terranonno.com/event/dale-bierman-touch-of-basil-pizza/
CATEGORIES:Music & Food Calender
END:VEVENT
BEGIN:VEVENT
DTSTART;TZID=America/New_York:20230702T140000
DTEND;TZID=America/New_York:20230702T170000
DTSTAMP:20260424T181937
CREATED:20230602T160630Z
LAST-MODIFIED:20230602T160630Z
UID:1451-1688306400-1688317200@terranonno.com
SUMMARY:Joe Grasso with B&B Concessions
DESCRIPTION:
URL:https://terranonno.com/event/joe-grasso-with-bb-concessions/
CATEGORIES:Music & Food Calender
END:VEVENT
BEGIN:VEVENT
DTSTART;TZID=America/New_York:20230707T163000
DTEND;TZID=America/New_York:20230707T193000
DTSTAMP:20260424T181937
CREATED:20230602T160817Z
LAST-MODIFIED:20230602T160817Z
UID:1453-1688747400-1688758200@terranonno.com
SUMMARY:Peter McCarthy
DESCRIPTION:
URL:https://terranonno.com/event/peter-mccarthy/
CATEGORIES:Music & Food Calender
END:VEVENT
BEGIN:VEVENT
DTSTART;TZID=America/New_York:20230708T150000
DTEND;TZID=America/New_York:20230708T180000
DTSTAMP:20260424T181937
CREATED:20230608T150530Z
LAST-MODIFIED:20230608T150530Z
UID:1456-1688828400-1688839200@terranonno.com
SUMMARY:Bubba Beyer & The Crabby Chef
DESCRIPTION:
URL:https://terranonno.com/event/bubba-beyer-the-crabby-chef/
CATEGORIES:Music & Food Calender
END:VEVENT
BEGIN:VEVENT
DTSTART;TZID=America/New_York:20230709T140000
DTEND;TZID=America/New_York:20230709T170000
DTSTAMP:20260424T181937
CREATED:20230608T150700Z
LAST-MODIFIED:20230608T150700Z
UID:1458-1688911200-1688922000@terranonno.com
SUMMARY:Brooke DiCaro
DESCRIPTION:
URL:https://terranonno.com/event/brooke-dicaro-2/
CATEGORIES:Music & Food Calender
END:VEVENT
BEGIN:VEVENT
DTSTART;TZID=America/New_York:20230714T163000
DTEND;TZID=America/New_York:20230714T193000
DTSTAMP:20260424T181937
CREATED:20230608T150842Z
LAST-MODIFIED:20230625T210833Z
UID:1460-1689352200-1689363000@terranonno.com
SUMMARY:Jimmy Dunn with B&B Concessions
DESCRIPTION:
URL:https://terranonno.com/event/bittersweet-duo-with-bb-concessions-2/
CATEGORIES:Music & Food Calender
END:VEVENT
BEGIN:VEVENT
DTSTART;TZID=America/New_York:20230715T150000
DTEND;TZID=America/New_York:20230715T180000
DTSTAMP:20260424T181937
CREATED:20230608T151034Z
LAST-MODIFIED:20230608T151034Z
UID:1462-1689433200-1689444000@terranonno.com
SUMMARY:TJ Fry and Ryan Wokock with TopShelf Mobile Cuisine
DESCRIPTION:
URL:https://terranonno.com/event/tj-fry-and-ryan-wokock-with-topshelf-mobile-cuisine/
CATEGORIES:Music & Food Calender
END:VEVENT
BEGIN:VEVENT
DTSTART;TZID=America/New_York:20230716T140000
DTEND;TZID=America/New_York:20230716T170000
DTSTAMP:20260424T181937
CREATED:20230608T151331Z
LAST-MODIFIED:20230608T151331Z
UID:1464-1689516000-1689526800@terranonno.com
SUMMARY:The Roller & The Crabby Chef
DESCRIPTION:
URL:https://terranonno.com/event/the-roller-the-crabby-chef-2/
CATEGORIES:Music & Food Calender
END:VEVENT
BEGIN:VEVENT
DTSTART;TZID=America/New_York:20230721T163000
DTEND;TZID=America/New_York:20230721T193000
DTSTAMP:20260424T181937
CREATED:20230608T151712Z
LAST-MODIFIED:20230608T151712Z
UID:1466-1689957000-1689967800@terranonno.com
SUMMARY:Andy Dimacale & The Spirit of San Juan
DESCRIPTION:
URL:https://terranonno.com/event/andy-dimacale-the-spirit-of-san-juan/
CATEGORIES:Music & Food Calender
END:VEVENT
BEGIN:VEVENT
DTSTART;TZID=America/New_York:20230722T150000
DTEND;TZID=America/New_York:20230722T180000
DTSTAMP:20260424T181937
CREATED:20230608T152059Z
LAST-MODIFIED:20230608T152059Z
UID:1468-1690038000-1690048800@terranonno.com
SUMMARY:Mario Rocco & Big Pappa Jai's BBQ
DESCRIPTION:
URL:https://terranonno.com/event/mario-rocco-big-pappa-jais-bbq/
CATEGORIES:Music & Food Calender
END:VEVENT
BEGIN:VEVENT
DTSTART;TZID=America/New_York:20230723T140000
DTEND;TZID=America/New_York:20230723T170000
DTSTAMP:20260424T181937
CREATED:20230609T153835Z
LAST-MODIFIED:20230609T153835Z
UID:1473-1690120800-1690131600@terranonno.com
SUMMARY:Nicki Sbaffoni & The Crabby Chef
DESCRIPTION:
URL:https://terranonno.com/event/nicki-sbaffoni-the-crabby-chef-2/
CATEGORIES:Music & Food Calender
END:VEVENT
BEGIN:VEVENT
DTSTART;TZID=America/New_York:20230728T163000
DTEND;TZID=America/New_York:20230728T193000
DTSTAMP:20260424T181937
CREATED:20230609T154307Z
LAST-MODIFIED:20230609T154307Z
UID:1475-1690561800-1690572600@terranonno.com
SUMMARY:Jacob Graff & TopShelf Mobile Cuisine
DESCRIPTION:
URL:https://terranonno.com/event/jacob-graff-topshelf-mobile-cuisine/
CATEGORIES:Music & Food Calender
END:VEVENT
BEGIN:VEVENT
DTSTART;TZID=America/New_York:20230729T150000
DTEND;TZID=America/New_York:20230729T180000
DTSTAMP:20260424T181937
CREATED:20230609T154701Z
LAST-MODIFIED:20230727T235411Z
UID:1477-1690642800-1690653600@terranonno.com
SUMMARY:Frank Piccioni with B&B Concessions
DESCRIPTION:
URL:https://terranonno.com/event/dale-bierman-with-bb-concessions/
CATEGORIES:Music & Food Calender
END:VEVENT
BEGIN:VEVENT
DTSTART;TZID=America/New_York:20230730T140000
DTEND;TZID=America/New_York:20230730T170000
DTSTAMP:20260424T181937
CREATED:20230609T155611Z
LAST-MODIFIED:20230609T155611Z
UID:1479-1690725600-1690736400@terranonno.com
SUMMARY:Rob McMahon with South Jersey BBQ Boyz
DESCRIPTION:
URL:https://terranonno.com/event/rob-mcmahon-with-south-jersey-bbq-boyz/
CATEGORIES:Music & Food Calender
END:VEVENT
END:VCALENDAR