BEGIN:VCALENDAR
VERSION:2.0
PRODID:-//Terra Nonno Winery - ECPv6.15.17//NONSGML v1.0//EN
CALSCALE:GREGORIAN
METHOD:PUBLISH
X-ORIGINAL-URL:https://terranonno.com
X-WR-CALDESC:Events for Terra Nonno Winery
REFRESH-INTERVAL;VALUE=DURATION:PT1H
X-Robots-Tag:noindex
X-PUBLISHED-TTL:PT1H
BEGIN:VTIMEZONE
TZID:America/New_York
BEGIN:DAYLIGHT
TZOFFSETFROM:-0500
TZOFFSETTO:-0400
TZNAME:EDT
DTSTART:20250309T070000
END:DAYLIGHT
BEGIN:STANDARD
TZOFFSETFROM:-0400
TZOFFSETTO:-0500
TZNAME:EST
DTSTART:20251102T060000
END:STANDARD
BEGIN:DAYLIGHT
TZOFFSETFROM:-0500
TZOFFSETTO:-0400
TZNAME:EDT
DTSTART:20260308T070000
END:DAYLIGHT
BEGIN:STANDARD
TZOFFSETFROM:-0400
TZOFFSETTO:-0500
TZNAME:EST
DTSTART:20261101T060000
END:STANDARD
BEGIN:DAYLIGHT
TZOFFSETFROM:-0500
TZOFFSETTO:-0400
TZNAME:EDT
DTSTART:20270314T070000
END:DAYLIGHT
BEGIN:STANDARD
TZOFFSETFROM:-0400
TZOFFSETTO:-0500
TZNAME:EST
DTSTART:20271107T060000
END:STANDARD
END:VTIMEZONE
BEGIN:VEVENT
DTSTART;TZID=America/New_York:20260605T163000
DTEND;TZID=America/New_York:20260605T193000
DTSTAMP:20260425T211724
CREATED:20260425T234151Z
LAST-MODIFIED:20260425T234151Z
UID:2448-1780677000-1780687800@terranonno.com
SUMMARY:B&B Concessions & Nicki Sbaffoni
DESCRIPTION:
URL:https://terranonno.com/event/bb-concessions-nicki-sbaffoni/
CATEGORIES:Music & Food Calender
END:VEVENT
BEGIN:VEVENT
DTSTART;TZID=America/New_York:20260606T150000
DTEND;TZID=America/New_York:20260606T180000
DTSTAMP:20260425T211724
CREATED:20260425T234252Z
LAST-MODIFIED:20260425T234252Z
UID:2450-1780758000-1780768800@terranonno.com
SUMMARY:Yoga 11:30\, Island Eats & Rob McMahon
DESCRIPTION:
URL:https://terranonno.com/event/yoga-1130-island-eats-rob-mcmahon/
CATEGORIES:Music & Food Calender
END:VEVENT
BEGIN:VEVENT
DTSTART;TZID=America/New_York:20260607T140000
DTEND;TZID=America/New_York:20260607T170000
DTSTAMP:20260425T211724
CREATED:20260425T234631Z
LAST-MODIFIED:20260425T234631Z
UID:2452-1780840800-1780851600@terranonno.com
SUMMARY:Humptys Dumplings & Andy Dimacale
DESCRIPTION:
URL:https://terranonno.com/event/humptys-dumplings-andy-dimacale/
CATEGORIES:Music & Food Calender
END:VEVENT
BEGIN:VEVENT
DTSTART;TZID=America/New_York:20260612T163000
DTEND;TZID=America/New_York:20260612T193000
DTSTAMP:20260425T211724
CREATED:20260425T234711Z
LAST-MODIFIED:20260425T234711Z
UID:2454-1781281800-1781292600@terranonno.com
SUMMARY:Essence of 2 and Bittersweet Duo
DESCRIPTION:
URL:https://terranonno.com/event/essence-of-2-and-bittersweet-duo/
CATEGORIES:Music & Food Calender
END:VEVENT
BEGIN:VEVENT
DTSTART;TZID=America/New_York:20260613T150000
DTEND;TZID=America/New_York:20260613T180000
DTSTAMP:20260425T211724
CREATED:20260425T235109Z
LAST-MODIFIED:20260425T235109Z
UID:2456-1781362800-1781373600@terranonno.com
SUMMARY:Top Shelf Mobile Cuisine & Matt DiVenti
DESCRIPTION:
URL:https://terranonno.com/event/top-shelf-mobile-cuisine-matt-diventi/
CATEGORIES:Music & Food Calender
END:VEVENT
BEGIN:VEVENT
DTSTART;TZID=America/New_York:20260614T140000
DTEND;TZID=America/New_York:20260614T170000
DTSTAMP:20260425T211724
CREATED:20260425T235212Z
LAST-MODIFIED:20260425T235212Z
UID:2458-1781445600-1781456400@terranonno.com
SUMMARY:Top Shelf Mobile Cuisine & Joe Grasso
DESCRIPTION:
URL:https://terranonno.com/event/top-shelf-mobile-cuisine-joe-grasso-2/
CATEGORIES:Music & Food Calender
END:VEVENT
END:VCALENDAR