BEGIN:VCALENDAR
VERSION:2.0
PRODID:-//Terra Nonno Winery - ECPv6.15.17//NONSGML v1.0//EN
CALSCALE:GREGORIAN
METHOD:PUBLISH
X-ORIGINAL-URL:https://terranonno.com
X-WR-CALDESC:Events for Terra Nonno Winery
REFRESH-INTERVAL;VALUE=DURATION:PT1H
X-Robots-Tag:noindex
X-PUBLISHED-TTL:PT1H
BEGIN:VTIMEZONE
TZID:America/New_York
BEGIN:DAYLIGHT
TZOFFSETFROM:-0500
TZOFFSETTO:-0400
TZNAME:EDT
DTSTART:20250309T070000
END:DAYLIGHT
BEGIN:STANDARD
TZOFFSETFROM:-0400
TZOFFSETTO:-0500
TZNAME:EST
DTSTART:20251102T060000
END:STANDARD
BEGIN:DAYLIGHT
TZOFFSETFROM:-0500
TZOFFSETTO:-0400
TZNAME:EDT
DTSTART:20260308T070000
END:DAYLIGHT
BEGIN:STANDARD
TZOFFSETFROM:-0400
TZOFFSETTO:-0500
TZNAME:EST
DTSTART:20261101T060000
END:STANDARD
BEGIN:DAYLIGHT
TZOFFSETFROM:-0500
TZOFFSETTO:-0400
TZNAME:EDT
DTSTART:20270314T070000
END:DAYLIGHT
BEGIN:STANDARD
TZOFFSETFROM:-0400
TZOFFSETTO:-0500
TZNAME:EST
DTSTART:20271107T060000
END:STANDARD
END:VTIMEZONE
BEGIN:VEVENT
DTSTART;TZID=America/New_York:20260403T163000
DTEND;TZID=America/New_York:20260403T193000
DTSTAMP:20260425T220242
CREATED:20260330T222411Z
LAST-MODIFIED:20260330T222411Z
UID:2394-1775233800-1775244600@terranonno.com
SUMMARY:Matt DiVenti
DESCRIPTION:
URL:https://terranonno.com/event/matt-diventi-3/
CATEGORIES:Music & Food Calender
END:VEVENT
BEGIN:VEVENT
DTSTART;TZID=America/New_York:20260404T150000
DTEND;TZID=America/New_York:20260404T180000
DTSTAMP:20260425T220242
CREATED:20260330T222453Z
LAST-MODIFIED:20260330T222453Z
UID:2396-1775314800-1775325600@terranonno.com
SUMMARY:Touch of Basil & Andy DiMacale
DESCRIPTION:
URL:https://terranonno.com/event/touch-of-basil-andy-dimacale/
CATEGORIES:Music & Food Calender
END:VEVENT
BEGIN:VEVENT
DTSTART;TZID=America/New_York:20260405T080000
DTEND;TZID=America/New_York:20260405T170000
DTSTAMP:20260425T220242
CREATED:20260330T222526Z
LAST-MODIFIED:20260330T222526Z
UID:2398-1775376000-1775408400@terranonno.com
SUMMARY:Closed for Easter
DESCRIPTION:
URL:https://terranonno.com/event/closed-for-easter/
CATEGORIES:Music & Food Calender
END:VEVENT
BEGIN:VEVENT
DTSTART;TZID=America/New_York:20260410T163000
DTEND;TZID=America/New_York:20260410T193000
DTSTAMP:20260425T220242
CREATED:20260330T222628Z
LAST-MODIFIED:20260330T222628Z
UID:2400-1775838600-1775849400@terranonno.com
SUMMARY:Rob McMahon & B&B Concessions
DESCRIPTION:
URL:https://terranonno.com/event/rob-mcmahon-bb-concessions/
CATEGORIES:Music & Food Calender
END:VEVENT
BEGIN:VEVENT
DTSTART;TZID=America/New_York:20260411T150000
DTEND;TZID=America/New_York:20260411T180000
DTSTAMP:20260425T220242
CREATED:20260330T224208Z
LAST-MODIFIED:20260330T224208Z
UID:2402-1775919600-1775930400@terranonno.com
SUMMARY:Nicki Sbaffoni & Top Shelf Mobile Cusine
DESCRIPTION:
URL:https://terranonno.com/event/nicki-sbaffoni-top-shelf-mobile-cusine/
CATEGORIES:Music & Food Calender
END:VEVENT
BEGIN:VEVENT
DTSTART;TZID=America/New_York:20260412T140000
DTEND;TZID=America/New_York:20260412T170000
DTSTAMP:20260425T220242
CREATED:20260330T224638Z
LAST-MODIFIED:20260330T224638Z
UID:2404-1776002400-1776013200@terranonno.com
SUMMARY:Joe Grasso & Top Shelf Mobile Cuisine
DESCRIPTION:
URL:https://terranonno.com/event/joe-grasso-top-shelf-mobile-cuisine-2/
CATEGORIES:Music & Food Calender
END:VEVENT
BEGIN:VEVENT
DTSTART;TZID=America/New_York:20260417T163000
DTEND;TZID=America/New_York:20260417T193000
DTSTAMP:20260425T220242
CREATED:20260330T224725Z
LAST-MODIFIED:20260330T224725Z
UID:2406-1776443400-1776454200@terranonno.com
SUMMARY:Bittersweet Duo & Cousins Maine Lobster
DESCRIPTION:
URL:https://terranonno.com/event/bittersweet-duo-cousins-maine-lobster/
CATEGORIES:Music & Food Calender
END:VEVENT
BEGIN:VEVENT
DTSTART;TZID=America/New_York:20260418T150000
DTEND;TZID=America/New_York:20260418T180000
DTSTAMP:20260425T220242
CREATED:20260330T224800Z
LAST-MODIFIED:20260330T224800Z
UID:2408-1776524400-1776535200@terranonno.com
SUMMARY:Joey DeNoble & Island Eats
DESCRIPTION:
URL:https://terranonno.com/event/joey-denoble-island-eats/
CATEGORIES:Music & Food Calender
END:VEVENT
BEGIN:VEVENT
DTSTART;TZID=America/New_York:20260419T140000
DTEND;TZID=America/New_York:20260419T170000
DTSTAMP:20260425T220242
CREATED:20260330T224835Z
LAST-MODIFIED:20260330T224835Z
UID:2410-1776607200-1776618000@terranonno.com
SUMMARY:TJ Fry & Burger Lab
DESCRIPTION:
URL:https://terranonno.com/event/tj-fry-burger-lab/
CATEGORIES:Music & Food Calender
END:VEVENT
BEGIN:VEVENT
DTSTART;TZID=America/New_York:20260424T163000
DTEND;TZID=America/New_York:20260424T193000
DTSTAMP:20260425T220242
CREATED:20260330T224911Z
LAST-MODIFIED:20260330T224911Z
UID:2412-1777048200-1777059000@terranonno.com
SUMMARY:John Rodden & SJ BBQ Boyz
DESCRIPTION:
URL:https://terranonno.com/event/john-rodden-sj-bbq-boyz/
CATEGORIES:Music & Food Calender
END:VEVENT
BEGIN:VEVENT
DTSTART;TZID=America/New_York:20260425T150000
DTEND;TZID=America/New_York:20260425T180000
DTSTAMP:20260425T220242
CREATED:20260330T224959Z
LAST-MODIFIED:20260330T224959Z
UID:2414-1777129200-1777140000@terranonno.com
SUMMARY:Jimmy Dunn & Burger Lab
DESCRIPTION:
URL:https://terranonno.com/event/jimmy-dunn-burger-lab/
CATEGORIES:Music & Food Calender
END:VEVENT
BEGIN:VEVENT
DTSTART;TZID=America/New_York:20260426T140000
DTEND;TZID=America/New_York:20260426T170000
DTSTAMP:20260425T220242
CREATED:20260330T225052Z
LAST-MODIFIED:20260330T225052Z
UID:2416-1777212000-1777222800@terranonno.com
SUMMARY:Gene Shepherd & Hicks Pitt Beef
DESCRIPTION:
URL:https://terranonno.com/event/gene-shepherd-hicks-pitt-beef/
CATEGORIES:Music & Food Calender
END:VEVENT
BEGIN:VEVENT
DTSTART;TZID=America/New_York:20260501T163000
DTEND;TZID=America/New_York:20260501T193000
DTSTAMP:20260425T220242
CREATED:20260425T204150Z
LAST-MODIFIED:20260425T204150Z
UID:2420-1777653000-1777663800@terranonno.com
SUMMARY:B&B Concessions & Matt Diverti
DESCRIPTION:
URL:https://terranonno.com/event/bb-concessions-matt-diverti/
CATEGORIES:Music & Food Calender
END:VEVENT
BEGIN:VEVENT
DTSTART;TZID=America/New_York:20260502T150000
DTEND;TZID=America/New_York:20260502T180000
DTSTAMP:20260425T220242
CREATED:20260425T204239Z
LAST-MODIFIED:20260425T204239Z
UID:2422-1777734000-1777744800@terranonno.com
SUMMARY:Touch if Basil & Gina and a Little Bit of Steve
DESCRIPTION:
URL:https://terranonno.com/event/touch-if-basil-gina-and-a-little-bit-of-steve/
CATEGORIES:Music & Food Calender
END:VEVENT
BEGIN:VEVENT
DTSTART;VALUE=DATE:20260509
DTEND;VALUE=DATE:20260510
DTSTAMP:20260425T220242
CREATED:20260425T231728Z
LAST-MODIFIED:20260425T231728Z
UID:2424-1778284800-1778371199@terranonno.com
SUMMARY:CLOSED
DESCRIPTION:
URL:https://terranonno.com/event/closed-2/
CATEGORIES:Music & Food Calender
END:VEVENT
BEGIN:VEVENT
DTSTART;TZID=America/New_York:20260510T140000
DTEND;TZID=America/New_York:20260510T170000
DTSTAMP:20260425T220242
CREATED:20260425T231821Z
LAST-MODIFIED:20260425T231821Z
UID:2426-1778421600-1778432400@terranonno.com
SUMMARY:Reds Rolling Restaurant & One Hot Mess
DESCRIPTION:
URL:https://terranonno.com/event/reds-rolling-restaurant-one-hot-mess/
CATEGORIES:Music & Food Calender
END:VEVENT
BEGIN:VEVENT
DTSTART;TZID=America/New_York:20260515T163000
DTEND;TZID=America/New_York:20260515T193000
DTSTAMP:20260425T220242
CREATED:20260425T231922Z
LAST-MODIFIED:20260425T231922Z
UID:2428-1778862600-1778873400@terranonno.com
SUMMARY:Humptys Dumplings & Greg Jones
DESCRIPTION:
URL:https://terranonno.com/event/humptys-dumplings-greg-jones/
CATEGORIES:Music & Food Calender
END:VEVENT
BEGIN:VEVENT
DTSTART;TZID=America/New_York:20260516T150000
DTEND;TZID=America/New_York:20260516T180000
DTSTAMP:20260425T220242
CREATED:20260425T232057Z
LAST-MODIFIED:20260425T232057Z
UID:2430-1778943600-1778954400@terranonno.com
SUMMARY:Top Shelf Mobile Cuisine & Kat & Lou
DESCRIPTION:
URL:https://terranonno.com/event/top-shelf-mobile-cuisine-kat-lou/
CATEGORIES:Music & Food Calender
END:VEVENT
BEGIN:VEVENT
DTSTART;TZID=America/New_York:20260517T140000
DTEND;TZID=America/New_York:20260517T170000
DTSTAMP:20260425T220242
CREATED:20260425T232946Z
LAST-MODIFIED:20260425T232946Z
UID:2433-1779026400-1779037200@terranonno.com
SUMMARY:Top Shelf Mobile Cuisine & Joe Grasso
DESCRIPTION:
URL:https://terranonno.com/event/top-shelf-mobile-cuisine-joe-grasso/
CATEGORIES:Music & Food Calender
END:VEVENT
BEGIN:VEVENT
DTSTART;TZID=America/New_York:20260522T163000
DTEND;TZID=America/New_York:20260522T193000
DTSTAMP:20260425T220242
CREATED:20260425T233030Z
LAST-MODIFIED:20260425T233030Z
UID:2435-1779467400-1779478200@terranonno.com
SUMMARY:Got Pizza? Food Truck & Jimmy Dean
DESCRIPTION:
URL:https://terranonno.com/event/got-pizza-food-truck-jimmy-dean/
CATEGORIES:Music & Food Calender
END:VEVENT
BEGIN:VEVENT
DTSTART;TZID=America/New_York:20260523T140000
DTEND;TZID=America/New_York:20260523T180000
DTSTAMP:20260425T220242
CREATED:20260425T233315Z
LAST-MODIFIED:20260425T233315Z
UID:2437-1779544800-1779559200@terranonno.com
SUMMARY:Island Eats & Bittersweet Duo
DESCRIPTION:
URL:https://terranonno.com/event/island-eats-bittersweet-duo/
CATEGORIES:Music & Food Calender
END:VEVENT
BEGIN:VEVENT
DTSTART;TZID=America/New_York:20260524T140000
DTEND;TZID=America/New_York:20260524T170000
DTSTAMP:20260425T220242
CREATED:20260425T233404Z
LAST-MODIFIED:20260425T233404Z
UID:2439-1779631200-1779642000@terranonno.com
SUMMARY:SJ BBQ Boyz & Jeremy Milligan
DESCRIPTION:
URL:https://terranonno.com/event/sj-bbq-boyz-jeremy-milligan/
CATEGORIES:Music & Food Calender
END:VEVENT
BEGIN:VEVENT
DTSTART;TZID=America/New_York:20260529T163000
DTEND;TZID=America/New_York:20260529T193000
DTSTAMP:20260425T220242
CREATED:20260425T233649Z
LAST-MODIFIED:20260425T233657Z
UID:2441-1780072200-1780083000@terranonno.com
SUMMARY:Essence of 2 Food Truck & Steve Cofield & Sweet
DESCRIPTION:
URL:https://terranonno.com/event/essence-of-2-food-truck-steve-cofield-sweet/
CATEGORIES:Music & Food Calender
END:VEVENT
BEGIN:VEVENT
DTSTART;TZID=America/New_York:20260530T140000
DTEND;TZID=America/New_York:20260530T180000
DTSTAMP:20260425T220242
CREATED:20260425T233942Z
LAST-MODIFIED:20260425T233942Z
UID:2444-1780149600-1780164000@terranonno.com
SUMMARY:Touch of Basil & Aaron Blandino
DESCRIPTION:
URL:https://terranonno.com/event/touch-of-basil-aaron-blandino/
CATEGORIES:Music & Food Calender
END:VEVENT
BEGIN:VEVENT
DTSTART;TZID=America/New_York:20260531T140000
DTEND;TZID=America/New_York:20260531T170000
DTSTAMP:20260425T220242
CREATED:20260425T234032Z
LAST-MODIFIED:20260425T234032Z
UID:2446-1780236000-1780246800@terranonno.com
SUMMARY:The Crab Guy & Jeff Selby
DESCRIPTION:
URL:https://terranonno.com/event/the-crab-guy-jeff-selby/
CATEGORIES:Music & Food Calender
END:VEVENT
BEGIN:VEVENT
DTSTART;TZID=America/New_York:20260605T163000
DTEND;TZID=America/New_York:20260605T193000
DTSTAMP:20260425T220242
CREATED:20260425T234151Z
LAST-MODIFIED:20260425T234151Z
UID:2448-1780677000-1780687800@terranonno.com
SUMMARY:B&B Concessions & Nicki Sbaffoni
DESCRIPTION:
URL:https://terranonno.com/event/bb-concessions-nicki-sbaffoni/
CATEGORIES:Music & Food Calender
END:VEVENT
BEGIN:VEVENT
DTSTART;TZID=America/New_York:20260606T150000
DTEND;TZID=America/New_York:20260606T180000
DTSTAMP:20260425T220242
CREATED:20260425T234252Z
LAST-MODIFIED:20260425T234252Z
UID:2450-1780758000-1780768800@terranonno.com
SUMMARY:Yoga 11:30\, Island Eats & Rob McMahon
DESCRIPTION:
URL:https://terranonno.com/event/yoga-1130-island-eats-rob-mcmahon/
CATEGORIES:Music & Food Calender
END:VEVENT
BEGIN:VEVENT
DTSTART;TZID=America/New_York:20260607T140000
DTEND;TZID=America/New_York:20260607T170000
DTSTAMP:20260425T220242
CREATED:20260425T234631Z
LAST-MODIFIED:20260425T234631Z
UID:2452-1780840800-1780851600@terranonno.com
SUMMARY:Humptys Dumplings & Andy Dimacale
DESCRIPTION:
URL:https://terranonno.com/event/humptys-dumplings-andy-dimacale/
CATEGORIES:Music & Food Calender
END:VEVENT
BEGIN:VEVENT
DTSTART;TZID=America/New_York:20260612T163000
DTEND;TZID=America/New_York:20260612T193000
DTSTAMP:20260425T220242
CREATED:20260425T234711Z
LAST-MODIFIED:20260425T234711Z
UID:2454-1781281800-1781292600@terranonno.com
SUMMARY:Essence of 2 and Bittersweet Duo
DESCRIPTION:
URL:https://terranonno.com/event/essence-of-2-and-bittersweet-duo/
CATEGORIES:Music & Food Calender
END:VEVENT
BEGIN:VEVENT
DTSTART;TZID=America/New_York:20260613T150000
DTEND;TZID=America/New_York:20260613T180000
DTSTAMP:20260425T220242
CREATED:20260425T235109Z
LAST-MODIFIED:20260425T235109Z
UID:2456-1781362800-1781373600@terranonno.com
SUMMARY:Top Shelf Mobile Cuisine & Matt DiVenti
DESCRIPTION:
URL:https://terranonno.com/event/top-shelf-mobile-cuisine-matt-diventi/
CATEGORIES:Music & Food Calender
END:VEVENT
END:VCALENDAR