BEGIN:VCALENDAR
VERSION:2.0
PRODID:-//Terra Nonno Winery - ECPv6.15.17//NONSGML v1.0//EN
CALSCALE:GREGORIAN
METHOD:PUBLISH
X-WR-CALNAME:Terra Nonno Winery
X-ORIGINAL-URL:https://terranonno.com
X-WR-CALDESC:Events for Terra Nonno Winery
REFRESH-INTERVAL;VALUE=DURATION:PT1H
X-Robots-Tag:noindex
X-PUBLISHED-TTL:PT1H
BEGIN:VTIMEZONE
TZID:America/New_York
BEGIN:DAYLIGHT
TZOFFSETFROM:-0500
TZOFFSETTO:-0400
TZNAME:EDT
DTSTART:20210314T070000
END:DAYLIGHT
BEGIN:STANDARD
TZOFFSETFROM:-0400
TZOFFSETTO:-0500
TZNAME:EST
DTSTART:20211107T060000
END:STANDARD
BEGIN:DAYLIGHT
TZOFFSETFROM:-0500
TZOFFSETTO:-0400
TZNAME:EDT
DTSTART:20220313T070000
END:DAYLIGHT
BEGIN:STANDARD
TZOFFSETFROM:-0400
TZOFFSETTO:-0500
TZNAME:EST
DTSTART:20221106T060000
END:STANDARD
BEGIN:DAYLIGHT
TZOFFSETFROM:-0500
TZOFFSETTO:-0400
TZNAME:EDT
DTSTART:20230312T070000
END:DAYLIGHT
BEGIN:STANDARD
TZOFFSETFROM:-0400
TZOFFSETTO:-0500
TZNAME:EST
DTSTART:20231105T060000
END:STANDARD
END:VTIMEZONE
BEGIN:VEVENT
DTSTART;TZID=America/New_York:20220320T130000
DTEND;TZID=America/New_York:20220320T190000
DTSTAMP:20260423T030317
CREATED:20220316T133209Z
LAST-MODIFIED:20220316T133216Z
UID:835-1647781200-1647802800@terranonno.com
SUMMARY:The Crabby Chef
DESCRIPTION:
URL:https://terranonno.com/event/the-crabby-chef-2/
CATEGORIES:Music & Food Calender
END:VEVENT
BEGIN:VEVENT
DTSTART;TZID=America/New_York:20220320T140000
DTEND;TZID=America/New_York:20220320T170000
DTSTAMP:20260423T030317
CREATED:20220316T133124Z
LAST-MODIFIED:20220316T133316Z
UID:833-1647784800-1647795600@terranonno.com
SUMMARY:Jimmy Dunn
DESCRIPTION:
URL:https://terranonno.com/event/jimmy-dunn/
CATEGORIES:Music & Food Calender
END:VEVENT
END:VCALENDAR