BEGIN:VCALENDAR
VERSION:2.0
PRODID:-//Terra Nonno Winery - ECPv6.15.17//NONSGML v1.0//EN
CALSCALE:GREGORIAN
METHOD:PUBLISH
X-ORIGINAL-URL:https://terranonno.com
X-WR-CALDESC:Events for Terra Nonno Winery
REFRESH-INTERVAL;VALUE=DURATION:PT1H
X-Robots-Tag:noindex
X-PUBLISHED-TTL:PT1H
BEGIN:VTIMEZONE
TZID:America/New_York
BEGIN:DAYLIGHT
TZOFFSETFROM:-0500
TZOFFSETTO:-0400
TZNAME:EDT
DTSTART:20230312T070000
END:DAYLIGHT
BEGIN:STANDARD
TZOFFSETFROM:-0400
TZOFFSETTO:-0500
TZNAME:EST
DTSTART:20231105T060000
END:STANDARD
BEGIN:DAYLIGHT
TZOFFSETFROM:-0500
TZOFFSETTO:-0400
TZNAME:EDT
DTSTART:20240310T070000
END:DAYLIGHT
BEGIN:STANDARD
TZOFFSETFROM:-0400
TZOFFSETTO:-0500
TZNAME:EST
DTSTART:20241103T060000
END:STANDARD
BEGIN:DAYLIGHT
TZOFFSETFROM:-0500
TZOFFSETTO:-0400
TZNAME:EDT
DTSTART:20250309T070000
END:DAYLIGHT
BEGIN:STANDARD
TZOFFSETFROM:-0400
TZOFFSETTO:-0500
TZNAME:EST
DTSTART:20251102T060000
END:STANDARD
END:VTIMEZONE
BEGIN:VEVENT
DTSTART;TZID=America/New_York:20240705T163000
DTEND;TZID=America/New_York:20240705T193000
DTSTAMP:20260424T202130
CREATED:20240702T144339Z
LAST-MODIFIED:20240702T144339Z
UID:1796-1720197000-1720207800@terranonno.com
SUMMARY:The Rollers & The Crabby Chef
DESCRIPTION:
URL:https://terranonno.com/event/the-rollers-the-crabby-chef-7/
CATEGORIES:Music & Food Calender
END:VEVENT
BEGIN:VEVENT
DTSTART;TZID=America/New_York:20240707T140000
DTEND;TZID=America/New_York:20240707T170000
DTSTAMP:20260424T202130
CREATED:20240702T144535Z
LAST-MODIFIED:20240702T144535Z
UID:1800-1720360800-1720371600@terranonno.com
SUMMARY:Jeff Selby & Humpty Dumplings
DESCRIPTION:
URL:https://terranonno.com/event/jeff-selby-humpty-dumplings/
CATEGORIES:Music & Food Calender
END:VEVENT
BEGIN:VEVENT
DTSTART;TZID=America/New_York:20240707T150000
DTEND;TZID=America/New_York:20240707T180000
DTSTAMP:20260424T202130
CREATED:20240702T144429Z
LAST-MODIFIED:20240702T144429Z
UID:1798-1720364400-1720375200@terranonno.com
SUMMARY:R.G Evans & Touch of Basil Pizza
DESCRIPTION:
URL:https://terranonno.com/event/r-g-evans-touch-of-basil-pizza/
CATEGORIES:Music & Food Calender
END:VEVENT
BEGIN:VEVENT
DTSTART;TZID=America/New_York:20240712T163000
DTEND;TZID=America/New_York:20240712T193000
DTSTAMP:20260424T202130
CREATED:20240702T145904Z
LAST-MODIFIED:20240702T145904Z
UID:1802-1720801800-1720812600@terranonno.com
SUMMARY:Nicki Sbaffoni with B&B Concessions
DESCRIPTION:
URL:https://terranonno.com/event/nicki-sbaffoni-with-bb-concessions/
CATEGORIES:Music & Food Calender
END:VEVENT
BEGIN:VEVENT
DTSTART;TZID=America/New_York:20240713T150000
DTEND;TZID=America/New_York:20240713T180000
DTSTAMP:20260424T202130
CREATED:20240702T145945Z
LAST-MODIFIED:20240702T145945Z
UID:1804-1720882800-1720893600@terranonno.com
SUMMARY:Jimmy Dunn & DeRoses Mobile Kitchen
DESCRIPTION:
URL:https://terranonno.com/event/jimmy-dunn-deroses-mobile-kitchen/
CATEGORIES:Music & Food Calender
END:VEVENT
BEGIN:VEVENT
DTSTART;TZID=America/New_York:20240714T140000
DTEND;TZID=America/New_York:20240714T170000
DTSTAMP:20260424T202130
CREATED:20240702T150033Z
LAST-MODIFIED:20240702T150033Z
UID:1806-1720965600-1720976400@terranonno.com
SUMMARY:Brooke DiCaro with B&B Concessions
DESCRIPTION:
URL:https://terranonno.com/event/brooke-dicaro-with-bb-concessions/
CATEGORIES:Music & Food Calender
END:VEVENT
BEGIN:VEVENT
DTSTART;TZID=America/New_York:20240719T163000
DTEND;TZID=America/New_York:20240719T193000
DTSTAMP:20260424T202130
CREATED:20240702T150220Z
LAST-MODIFIED:20240702T150220Z
UID:1808-1721406600-1721417400@terranonno.com
SUMMARY:Rob McMahon & The Crabby Chef
DESCRIPTION:
URL:https://terranonno.com/event/rob-mcmahon-the-crabby-chef-2/
CATEGORIES:Music & Food Calender
END:VEVENT
BEGIN:VEVENT
DTSTART;TZID=America/New_York:20240720T140000
DTEND;TZID=America/New_York:20240720T180000
DTSTAMP:20260424T202130
CREATED:20240702T150314Z
LAST-MODIFIED:20240717T223607Z
UID:1810-1721484000-1721498400@terranonno.com
SUMMARY:It's Our Anniversary! TJ Fry Band Duo with DeRoses Mobile Kitchen
DESCRIPTION:
URL:https://terranonno.com/event/tj-fry-ryan-wokock-with-deroses-mobile-kitchen/
CATEGORIES:Music & Food Calender
END:VEVENT
BEGIN:VEVENT
DTSTART;TZID=America/New_York:20240721T140000
DTEND;TZID=America/New_York:20240721T170000
DTSTAMP:20260424T202130
CREATED:20240702T150415Z
LAST-MODIFIED:20240702T150415Z
UID:1812-1721570400-1721581200@terranonno.com
SUMMARY:Bittersweet Duo & I Got Pizza Food Truck
DESCRIPTION:
URL:https://terranonno.com/event/bittersweet-duo-i-got-pizza-food-truck/
CATEGORIES:Music & Food Calender
END:VEVENT
BEGIN:VEVENT
DTSTART;TZID=America/New_York:20240726T163000
DTEND;TZID=America/New_York:20240726T193000
DTSTAMP:20260424T202130
CREATED:20240702T150453Z
LAST-MODIFIED:20240702T150453Z
UID:1814-1722011400-1722022200@terranonno.com
SUMMARY:Whiskey Sunset & SJ BBQ Boyz
DESCRIPTION:
URL:https://terranonno.com/event/whiskey-sunset-sj-bbq-boyz/
CATEGORIES:Music & Food Calender
END:VEVENT
BEGIN:VEVENT
DTSTART;TZID=America/New_York:20240727T150000
DTEND;TZID=America/New_York:20240727T180000
DTSTAMP:20260424T202130
CREATED:20240702T150546Z
LAST-MODIFIED:20240702T150546Z
UID:1816-1722092400-1722103200@terranonno.com
SUMMARY:Frank Piconni & DeRoses Mobile Kitchen
DESCRIPTION:
URL:https://terranonno.com/event/frank-piconni-deroses-mobile-kitchen/
CATEGORIES:Music & Food Calender
END:VEVENT
BEGIN:VEVENT
DTSTART;TZID=America/New_York:20240728T140000
DTEND;TZID=America/New_York:20240728T170000
DTSTAMP:20260424T202130
CREATED:20240702T150627Z
LAST-MODIFIED:20240702T150627Z
UID:1818-1722175200-1722186000@terranonno.com
SUMMARY:Joe Grasso & I Got Pizza Food Truck
DESCRIPTION:
URL:https://terranonno.com/event/joe-grasso-i-got-pizza-food-truck/
CATEGORIES:Music & Food Calender
END:VEVENT
END:VCALENDAR