BEGIN:VCALENDAR
VERSION:2.0
PRODID:-//Terra Nonno Winery - ECPv6.15.17//NONSGML v1.0//EN
CALSCALE:GREGORIAN
METHOD:PUBLISH
X-WR-CALNAME:Terra Nonno Winery
X-ORIGINAL-URL:https://terranonno.com
X-WR-CALDESC:Events for Terra Nonno Winery
REFRESH-INTERVAL;VALUE=DURATION:PT1H
X-Robots-Tag:noindex
X-PUBLISHED-TTL:PT1H
BEGIN:VTIMEZONE
TZID:America/New_York
BEGIN:DAYLIGHT
TZOFFSETFROM:-0500
TZOFFSETTO:-0400
TZNAME:EDT
DTSTART:20210314T070000
END:DAYLIGHT
BEGIN:STANDARD
TZOFFSETFROM:-0400
TZOFFSETTO:-0500
TZNAME:EST
DTSTART:20211107T060000
END:STANDARD
BEGIN:DAYLIGHT
TZOFFSETFROM:-0500
TZOFFSETTO:-0400
TZNAME:EDT
DTSTART:20220313T070000
END:DAYLIGHT
BEGIN:STANDARD
TZOFFSETFROM:-0400
TZOFFSETTO:-0500
TZNAME:EST
DTSTART:20221106T060000
END:STANDARD
BEGIN:DAYLIGHT
TZOFFSETFROM:-0500
TZOFFSETTO:-0400
TZNAME:EDT
DTSTART:20230312T070000
END:DAYLIGHT
BEGIN:STANDARD
TZOFFSETFROM:-0400
TZOFFSETTO:-0500
TZNAME:EST
DTSTART:20231105T060000
END:STANDARD
END:VTIMEZONE
BEGIN:VEVENT
DTSTART;TZID=America/New_York:20220507T130000
DTEND;TZID=America/New_York:20220507T190000
DTSTAMP:20260422T223542
CREATED:20220407T132327Z
LAST-MODIFIED:20220407T132327Z
UID:953-1651928400-1651950000@terranonno.com
SUMMARY:The Crabby Chef
DESCRIPTION:
URL:https://terranonno.com/event/the-crabby-chef-6/
CATEGORIES:Music & Food Calender
END:VEVENT
BEGIN:VEVENT
DTSTART;TZID=America/New_York:20220507T150000
DTEND;TZID=America/New_York:20220507T180000
DTSTAMP:20260422T223542
CREATED:20220407T132231Z
LAST-MODIFIED:20220407T132231Z
UID:950-1651935600-1651946400@terranonno.com
SUMMARY:Nicki Sbaffoni
DESCRIPTION:With a mantra of “strum and wail”\, Nicki Sbaffoni consistently surprises and delights audiences with powerful and creatively twisted versions of favorite songs as well as her eclectic song menu\, offering over 1300 songs from all genres and eras. Can’t decide on your favorite? You could always request an original! Nicki’s compositions all fall snugly into the acoustic pop genre\, with strong\, emotional lyrics\, hypnotic melodies\, and catchy refrains.​​​​​​​​​​​​​​​​​
URL:https://terranonno.com/event/nicki-sbaffoni/
CATEGORIES:Music & Food Calender
END:VEVENT
END:VCALENDAR